BEGIN:VCALENDAR
VERSION:2.0
PRODID:-//eventon.com NONSGML v1.0//EN
BEGIN:VEVENT
UID:69e5366a8e231
DTSTAMP:20260419T210914
DTSTART:20210927T103000Z
DTEND:20210927T143000Z
LOCATION:
SUMMARY:Young Hockey Leader course North Kildare 27th September 2021
DESCRIPTION: BOOK HERE Young Hockey Leaders course at North Kildare 27th September 2021. 1030am-230pm Bring hockey stick\,  mouthguard\,  shin pads\,  pens\,  water bottle and snack For ages 14-18 years old Introduction to coaching and umpiring junior players Participats receive a t shirt\,  booklet\,  whistle and certificate of completion of 5 volunteer[..]
END:VEVENT
END:VCALENDAR