BEGIN:VCALENDAR
VERSION:2.0
PRODID:-//eventon.com NONSGML v1.0//EN
BEGIN:VEVENT
UID:69e7ced36335a
DTSTAMP:20260421T202403
DTSTART:20210721T100000Z
DTEND:20210722T140000Z
LOCATION:
SUMMARY:Hockey Ireland So Hockey Camp 21st & 22nd July Ursulines College Sligo
DESCRIPTION: 
END:VEVENT
END:VCALENDAR