BEGIN:VCALENDAR
VERSION:2.0
PRODID:-//eventon.com NONSGML v1.0//EN
BEGIN:VEVENT
UID:69e7e0aba6995
DTSTAMP:20260421T214011
DTSTART:20210714T110000Z
DTEND:20210714T153000Z
LOCATION:
SUMMARY:Hockey Ireland So Hockey Camp 14th July Kinvara HC – Athlone Regional Sports Centre
DESCRIPTION: 
END:VEVENT
END:VCALENDAR