BEGIN:VCALENDAR
VERSION:2.0
PRODID:-//eventon.com NONSGML v1.0//EN
BEGIN:VEVENT
UID:69e7f4c2bcd44
DTSTAMP:20260421T230554
DTSTART:20210712T100000Z
DTEND:20210715T140000Z
LOCATION:
SUMMARY:Hockey Ireland So Hockey Camp 12th - 15th July Cork Harlequins HC
DESCRIPTION: 
END:VEVENT
END:VCALENDAR