BEGIN:VCALENDAR
VERSION:2.0
PRODID:-//eventon.com NONSGML v1.0//EN
BEGIN:VEVENT
UID:69e807b27157b
DTSTAMP:20260422T002642
DTSTART:20210712T103000Z
DTEND:20210714T143000Z
LOCATION:
SUMMARY:Hockey Ireland So Hockey Camp 12th - 14th July Catholic Institute Limerick
DESCRIPTION: 
END:VEVENT
END:VCALENDAR