BEGIN:VCALENDAR
VERSION:2.0
PRODID:-//eventon.com NONSGML v1.0//EN
BEGIN:VEVENT
UID:69e98ccca4587
DTSTAMP:20260423T040652
DTSTART:20230822T100000Z
DTEND:20230822T140000Z
LOCATION:
SUMMARY:Young Hockey Leaders Course Tuesday 22nd August\,  UCD
DESCRIPTION: &nbsp; Time: 10am-2pm Cost is €20pp . For boys and girls aged 14-18 years of age who want to learn more about coaching and umpiring youth hockey. Participants receive: Whistle\,  booklet\,  certificate\,  stick grip\,  umpiring guide Venue: UCD &nbsp; See description of the course here https://irelandhockey.sportlomo.com/young-hockey-leaders-award/
END:VEVENT
END:VCALENDAR