BEGIN:VCALENDAR
VERSION:2.0
PRODID:-//eventon.com NONSGML v1.0//EN
BEGIN:VEVENT
UID:69e97a6a9baf1
DTSTAMP:20260423T024826
DTSTART:20230528T000000Z
DTEND:20230528T235900Z
LOCATION:
SUMMARY:Fundamentals of Coaching Hockey Course: Loreto HC; Sunday 28th May 2023; 10.00-16.00
DESCRIPTION: BOOK HERE Details of the course are below. *Please note – coaches must be 16 or over on the day of the course Course: Fundamentals of Coaching Hockey Venue: Loreto HC\,  Loreto High School\,  Grange Road\,  Dublin 14. Dates: Sunday 28th May 2023 Time: 10.00-16.00 Cost: €65 (excluding €3 booking[..]
END:VEVENT
END:VCALENDAR