BEGIN:VCALENDAR
VERSION:2.0
PRODID:-//eventon.com NONSGML v1.0//EN
BEGIN:VEVENT
UID:69e96637a3788
DTSTAMP:20260423T012215
DTSTART:20230424T094900Z
DTEND:20230424T094900Z
LOCATION:
SUMMARY:Irish Senior Cup Finals
DESCRIPTION: The Men’s Senior Cup dates back to 1894 which makes it one of the oldest hockey competitions in the world. The competition is an open draw format played for by the best Men’s Hockey Clubs across Ireland. This tournament is one of the most exciting and brings large crowds of[..]
END:VEVENT
END:VCALENDAR