BEGIN:VCALENDAR
VERSION:2.0
PRODID:-//eventon.com NONSGML v1.0//EN
BEGIN:VEVENT
UID:69e952e24ef39
DTSTAMP:20260422T235946
DTSTART:20230520T000000Z
DTEND:20230521T235900Z
LOCATION:
SUMMARY:U15 Festival for InterPro
DESCRIPTION: U15 Festival for InterPro Boys and Girls to be held in Three Rock Rovers.
END:VEVENT
END:VCALENDAR