BEGIN:VCALENDAR
VERSION:2.0
PRODID:-//eventon.com NONSGML v1.0//EN
BEGIN:VEVENT
UID:69e93d3c08653
DTSTAMP:20260422T222724
DTSTART:20230416T000000Z
DTEND:20230416T235900Z
LOCATION:
SUMMARY:Fundamentals of Coaching Hockey Course: Temple Carrig School\,  Greystones\,  Co. Wicklow; Sunday 16th April 2023; 12.00-18.00
DESCRIPTION: BOOK HERE Details of the course are below. *Please note – coaches must be 16 or over on the day of the course Course: Fundamentals of Coaching Hockey Venue: Temple Carrig School\,  Greystones\,  Co. Wicklow Dates: Sunday 16th April 2023 Time: 12.00-18.00 Cost: €65 (excluding €3 booking fee) BOOK HERE
END:VEVENT
END:VCALENDAR