BEGIN:VCALENDAR
VERSION:2.0
PRODID:-//eventon.com NONSGML v1.0//EN
BEGIN:VEVENT
UID:69e927a62908b
DTSTAMP:20260422T205518
DTSTART:20230406T100000Z
DTEND:20230406T140000Z
LOCATION:
SUMMARY:6th April - Young Hockey Leaders - Dublin
DESCRIPTION: Location - Sport Ireland Campus - Eircode - D15Y96T Time - 10.00 - 14.00 Ages - 14 - 18 years More info on course: https://irelandhockey.sportlomo.com/young-hockey-leaders-award/ Book Here: https://admin.sportsmanager.ie/sportlomo/registration/event-registration/index/14
END:VEVENT
END:VCALENDAR