BEGIN:VCALENDAR
VERSION:2.0
PRODID:-//eventon.com NONSGML v1.0//EN
BEGIN:VEVENT
UID:69e8fd03372ed
DTSTAMP:20260422T175323
DTSTART:20230405T100000Z
DTEND:20230405T140000Z
LOCATION:
SUMMARY:5th April - Young Hockey Leader - Dublin
DESCRIPTION: Location - Sport Ireland Campus - Eircode - D15Y96T Time - 10.00 - 14.00 Ages - 14 - 18 years More info on course: https://irelandhockey.sportlomo.com/young-hockey-leaders-award/ Book Here: https://admin.sportsmanager.ie/sportlomo/registration/event-registration/index/14 &nbsp;
END:VEVENT
END:VCALENDAR