BEGIN:VCALENDAR
VERSION:2.0
PRODID:-//eventon.com NONSGML v1.0//EN
BEGIN:VEVENT
UID:69e8e78de0920
DTSTAMP:20260422T162149
DTSTART:20230416T110000Z
DTEND:20230416T140000Z
LOCATION:
SUMMARY:Club Umpire Workshop
DESCRIPTION: Register HERE
END:VEVENT
END:VCALENDAR