BEGIN:VCALENDAR
VERSION:2.0
PRODID:-//eventon.com NONSGML v1.0//EN
BEGIN:VEVENT
UID:69e8d05600b77
DTSTAMP:20260422T144246
DTSTART:20230430T000000Z
DTEND:20230430T235900Z
LOCATION:
SUMMARY:U17 InterPro Festival Girls
DESCRIPTION: U17 InterPro Festival Girls
END:VEVENT
END:VCALENDAR