BEGIN:VCALENDAR
VERSION:2.0
PRODID:-//eventon.com NONSGML v1.0//EN
BEGIN:VEVENT
UID:69e8cf957dd00
DTSTAMP:20260422T143933
DTSTART:20230429T000000Z
DTEND:20230429T235900Z
LOCATION:
SUMMARY:U17 InterPro Festival Boys
DESCRIPTION: U17 InterPro Festival Boys
END:VEVENT
END:VCALENDAR