BEGIN:VCALENDAR
VERSION:2.0
PRODID:-//eventon.com NONSGML v1.0//EN
BEGIN:VEVENT
UID:69e8bc5fe7cf6
DTSTAMP:20260422T131735
DTSTART:20230520T000000Z
DTEND:20230520T235900Z
LOCATION:
SUMMARY:U15 Festival for InterPro Girls
DESCRIPTION: U15 Festival for InterPro Girls
END:VEVENT
END:VCALENDAR