BEGIN:VCALENDAR
VERSION:2.0
PRODID:-//eventon.com NONSGML v1.0//EN
BEGIN:VEVENT
UID:69e5249100ac3
DTSTAMP:20260419T195305
DTSTART:20230412T100000Z
DTEND:20230412T140000Z
LOCATION:
SUMMARY:Dublin GOALKEEPER Camp
DESCRIPTION: Easter Goalkeepers Camp Goalkeepers must bring their own gear 12th - 14th April 10.00 - 14.00 6th class - 6th year Sport Ireland Campus - https://goo.gl/maps/Hi7cLd6rBzsioRwU9
END:VEVENT
END:VCALENDAR