BEGIN:VCALENDAR
VERSION:2.0
PRODID:-//eventon.com NONSGML v1.0//EN
BEGIN:VEVENT
UID:69e55b10201c1
DTSTAMP:20260419T234536
DTSTART:20230326T115800Z
DTEND:20230326T115800Z
LOCATION:
SUMMARY:ISC Semi Final
DESCRIPTION: Men and Women Semi Final on the 26th of March\,  2023
END:VEVENT
END:VCALENDAR