BEGIN:VCALENDAR
VERSION:2.0
PRODID:-//eventon.com NONSGML v1.0//EN
BEGIN:VEVENT
UID:69e777b2bfe8d
DTSTAMP:20260421T141218
DTSTART:20221030T121500Z
DTEND:20221030T144500Z
LOCATION:Cork Harlequins Farmers Cross
SUMMARY:Young Hockey Leaders Workshop - Cork Harlequins HC - Sun 30th Sept 2022
DESCRIPTION: BOOK HERE! Young Hockey Umpires course at Cork Harlequins\,  Farmers Cross\,  Cork. 1.15pm - 3.45pm on the pitch Bring water bottle and snack For ages 14-18 years old Introduction to umpiring junior players. Participants receive a booklet\,  whistle and certificate of completion. A recorded presentation will be sent to all[..]
END:VEVENT
END:VCALENDAR