BEGIN:VCALENDAR
VERSION:2.0
PRODID:-//eventon.com NONSGML v1.0//EN
BEGIN:VEVENT
UID:69e52a002ed1d
DTSTAMP:20260419T201616
DTSTART:20221101T090000Z
DTEND:20221102T130000Z
LOCATION:
SUMMARY:Dublin Halloween Camp
DESCRIPTION: Mixed hockey camp for outfield players only. Date:1st - 2nd Nov Time: 10.00 - 14.00 Cost: €55 Age: 1st - 6th Year Venue: Sport Ireland Campus - https://goo.gl/maps/hHuFmDrFNAgDmDHLA BOOK HERE For further information\,  please contact camps@irelandhockey.sportlomo.com
END:VEVENT
END:VCALENDAR