BEGIN:VCALENDAR
VERSION:2.0
PRODID:-//eventon.com NONSGML v1.0//EN
BEGIN:VEVENT
UID:69e50517cdc42
DTSTAMP:20260419T173847
DTSTART:20220924T000000Z
DTEND:20220924T235900Z
LOCATION:
SUMMARY:Fundamentals of Umpiring Module 2 - Connacht - 24th September
DESCRIPTION: BOOK HERE Date: 24th September 2022 Venue: Athlone Hockey Club Time: from 11:00am The aim of Fundamentals Module 2 is to ensure that the basic skills outlined in Module 1 can be put into practice\,  i.e. that participants know where to stand\,  know their areas of control\,  demonstrate appropriate signalling\, [..]
END:VEVENT
END:VCALENDAR