BEGIN:VCALENDAR
VERSION:2.0
PRODID:-//eventon.com NONSGML v1.0//EN
BEGIN:VEVENT
UID:69e5178d31698
DTSTAMP:20260419T185733
DTSTART:20220918T003000Z
DTEND:20220918T163000Z
LOCATION:Cork Harlequins Farmers Cross
SUMMARY:Young Hockey Leaders Workshop - Cork Harlequins HC - Sun 18th Sept 2022
DESCRIPTION: BOOK HERE! Young Hockey Umpires course at Cork Harlequins\,  Farmers Cross\,  Cork. 12.30 - 4.30pm on the pitch Bring hockey stick\,  mouthguard\,  shin pads\,  pens\,  water bottle and snack For ages 14-18 years old Introduction to coaching and umpiring junior players Participants receive a t shirt\,  booklet\,  whistle and certificate[..]
END:VEVENT
END:VCALENDAR