BEGIN:VCALENDAR
VERSION:2.0
PRODID:-//eventon.com NONSGML v1.0//EN
BEGIN:VEVENT
UID:69e52ce9e6c47
DTSTAMP:20260419T202841
DTSTART:20221101T100000Z
DTEND:20221102T140000Z
LOCATION:
SUMMARY:Halloween Camp Athlone
DESCRIPTION: Halloween Camp Athlone
END:VEVENT
END:VCALENDAR