BEGIN:VCALENDAR
VERSION:2.0
PRODID:-//eventon.com NONSGML v1.0//EN
BEGIN:VEVENT
UID:69e53fa3003da
DTSTAMP:20260419T214835
DTSTART:20221103T093000Z
DTEND:20221104T133000Z
LOCATION:
SUMMARY:Halloween Camp Limerick
DESCRIPTION: Halloween Camp Limerick
END:VEVENT
END:VCALENDAR