BEGIN:VCALENDAR
VERSION:2.0
PRODID:-//eventon.com NONSGML v1.0//EN
BEGIN:VEVENT
UID:69e55314949f0
DTSTAMP:20260419T231132
DTSTART:20221101T100000Z
DTEND:20221102T140000Z
LOCATION:
SUMMARY:Halloween Camp Tipperary
DESCRIPTION: Halloween Camp Tipperary
END:VEVENT
END:VCALENDAR