BEGIN:VCALENDAR
VERSION:2.0
PRODID:-//eventon.com NONSGML v1.0//EN
BEGIN:VEVENT
UID:69e73a6382bcc
DTSTAMP:20260421T095043
DTSTART:20221103T100000Z
DTEND:20221104T140000Z
LOCATION:
SUMMARY:Halloween Camp Sligo
DESCRIPTION: Halloween Camp Sligo
END:VEVENT
END:VCALENDAR