BEGIN:VCALENDAR
VERSION:2.0
PRODID:-//eventon.com NONSGML v1.0//EN
BEGIN:VEVENT
UID:69e81267a6aa3
DTSTAMP:20260422T011223
DTSTART:20220817T000000Z
DTEND:20220824T235900Z
LOCATION:
SUMMARY:Fundamentals of Coaching Hockey Course - Killiney\,  Dublin; Wed 17th and 24th August; 18.30-21.30 (both days)
DESCRIPTION: Course: Fundamentals of Coaching Hockey Venue: St Joseph of Cluny School\,  Avondale Road\,  Killiney\,  Co. Dublin \,  A96 DK13 Date: Wed 17th and 24th August 2022; 18.30-21.30 (both evenings) All participants must be at least 16 years old on the day of the course. To book: Click Here
END:VEVENT
END:VCALENDAR