BEGIN:VCALENDAR
VERSION:2.0
PRODID:-//eventon.com NONSGML v1.0//EN
BEGIN:VEVENT
UID:69e8279945333
DTSTAMP:20260422T024249
DTSTART:20220822T000000Z
DTEND:20220822T235900Z
LOCATION:
SUMMARY:Fundamentals of Coaching Hockey Course - Pembroke Wanderers\,  Dublin ; Monday 22nd June (10.00-16.00) COURSE FULL; Venue TBC
DESCRIPTION: Course: Fundamentals of Coaching Hockey Venue: Pembroke Wanderers Date: Monday 22nd August 2022 (Daytime) ; 10.00-16.00 All participants must be at least 16 years old on the day of the course. To book: Click Here
END:VEVENT
END:VCALENDAR