BEGIN:VCALENDAR
VERSION:2.0
PRODID:-//eventon.com NONSGML v1.0//EN
BEGIN:VEVENT
UID:69e83d1c08f02
DTSTAMP:20260422T041436
DTSTART:20220904T000000Z
DTEND:20220904T235900Z
LOCATION:
SUMMARY:Fundamentals of Coaching Hockey Course - Corinthian HC\,  September 4th 2022\,  11am-5pm
DESCRIPTION: Course: Fundamentals of Coaching Hockey Venue: Corinthian HC Date: Sunday September 4th 2022; 11am-5pm All participants must be at least 16 years old on the day of the course. To book: Click Here
END:VEVENT
END:VCALENDAR