BEGIN:VCALENDAR
VERSION:2.0
PRODID:-//eventon.com NONSGML v1.0//EN
BEGIN:VEVENT
UID:69e852a409987
DTSTAMP:20260422T054628
DTSTART:20220625T093000Z
DTEND:20220625T133000Z
LOCATION:Ennis HC Showgrounds Road
SUMMARY:Young Hockey Leaders Workshop - Ennis HC - Sat 25th June 2022
DESCRIPTION: BOOK HERE! Young Hockey Umpires course at Ennis HC\,  Planet Entertainment Centre\,  Showgrounds Road\,  Ennis. 9.30am - 1.30pm on the pitch Bring hockey stick\,  mouthguard\,  shin pads\,  pens\,  water bottle and snack For ages 14-18 years old Introduction to coaching and umpiring junior players Participants receive a t shirt\,  booklet\, [..]
END:VEVENT
END:VCALENDAR