BEGIN:VCALENDAR
VERSION:2.0
PRODID:-//eventon.com NONSGML v1.0//EN
BEGIN:VEVENT
UID:69e868d03e961
DTSTAMP:20260422T072104
DTSTART:20220626T000000Z
DTEND:20220626T235900Z
LOCATION:
SUMMARY:Fundamentals of Coaching Hockey Course - Botanic Hockey Club\,  June 26th 2022\,  11am-5pm
DESCRIPTION: Course: Fundamentals of Coaching Hockey Venue: Botanic Hockey Club\,  St Marys Secondary School\,  Old Finglas Road\,  Dublin 11\,  D11 F2V9 Date: Sunday June 26th 11am-5pm All participants must be at least 16 years old on the day of the course. To book: Click Here
END:VEVENT
END:VCALENDAR