BEGIN:VCALENDAR
VERSION:2.0
PRODID:-//eventon.com NONSGML v1.0//EN
BEGIN:VEVENT
UID:69e87b897bed1
DTSTAMP:20260422T084057
DTSTART:20220706T110000Z
DTEND:20220708T150000Z
LOCATION:
SUMMARY:TIPPERARY CAMP - 6th - 8th July
DESCRIPTION: TIPPERARY CAMP - 6th - 8th July
END:VEVENT
END:VCALENDAR